BEGIN:VCALENDAR
PRODID:-//AT Content Types//AT Event//EN
VERSION:2.0
METHOD:PUBLISH
BEGIN:VEVENT
DTSTAMP:20260423T053637Z
CREATED:20180723T132842Z
UID:ATEvent-d77df0a8ef3a8fc4d57d9304903a233d
LAST-MODIFIED:20190424T082326Z
SUMMARY:Corporate Policy & Strategy Committee
DTSTART:20181002T080000Z
DTEND:20181002T080000Z
DESCRIPTION:The BSL Plan for Edinburgh will be scrutinised by the City
  of Edinburgh Council's Corporate Policy & Strategy Committee.
CLASS:PUBLIC
END:VEVENT
END:VCALENDAR
