BEGIN:VCALENDAR
PRODID:-//AT Content Types//AT Event//EN
VERSION:2.0
METHOD:PUBLISH
BEGIN:VEVENT
DTSTAMP:20260421T112721Z
CREATED:20221111T144958Z
UID:ATEvent-b501da8b8b3b4dc3be00674c5ab331f4
LAST-MODIFIED:20221114T115435Z
SUMMARY:Information Session 1 @ Queensferry High School
DTSTART:20221130T160000Z
DTEND:20221130T200000Z
DESCRIPTION:Drop-in and speak to us at Queensferry High School\, find 
 out more and give us your feedback.
CLASS:PUBLIC
END:VEVENT
END:VCALENDAR
