BEGIN:VCALENDAR
PRODID:-//AT Content Types//AT Event//EN
VERSION:2.0
METHOD:PUBLISH
BEGIN:VEVENT
DTSTAMP:20260421T112950Z
CREATED:20221111T144958Z
UID:ATEvent-f79f5a2507c847f5b860e10ed29416d8
LAST-MODIFIED:20221114T115435Z
SUMMARY:Information Session 2 @ Kirkliston Primary School
DTSTART:20221205T150000Z
DTEND:20221205T190000Z
DESCRIPTION:Drop-in and speak to us at Kirkliston Primary School\, fin
 d out more and give us your feedback.
CLASS:PUBLIC
END:VEVENT
END:VCALENDAR
