BEGIN:VCALENDAR
PRODID:-//AT Content Types//AT Event//EN
VERSION:2.0
METHOD:PUBLISH
BEGIN:VEVENT
DTSTAMP:20260421T112639Z
CREATED:20221111T144958Z
UID:ATEvent-188b912e32f94b99ac1aaf103fc8fb34
LAST-MODIFIED:20221114T115435Z
SUMMARY:Information Session 3 @ Kirkliston Leisure Centre
DTSTART:20221207T110000Z
DTEND:20221207T170000Z
DESCRIPTION:Drop-in and speak to us at Kirkliston Leisure Centre\, fin
 d out more and give us your feedback.
CLASS:PUBLIC
END:VEVENT
END:VCALENDAR
