BEGIN:VCALENDAR
PRODID:-//AT Content Types//AT Event//EN
VERSION:2.0
METHOD:PUBLISH
BEGIN:VEVENT
DTSTAMP:20260421T112950Z
CREATED:20221111T144958Z
UID:ATEvent-90d57b5ca9454426aebae80ec2091603
LAST-MODIFIED:20221114T115435Z
SUMMARY:Information Session 4 @ Rosebery Hall\, Queensferry
DTSTART:20221214T130000Z
DTEND:20221214T190000Z
DESCRIPTION:Drop-in and speak to us at Rosebery Hall in Queensferry\, 
 find out more and give us your feedback.
CLASS:PUBLIC
END:VEVENT
END:VCALENDAR
