BEGIN:VCALENDAR
PRODID:-//AT Content Types//AT Event//EN
VERSION:2.0
METHOD:PUBLISH
BEGIN:VEVENT
DTSTAMP:20260423T150630Z
CREATED:20161107T164416Z
UID:ATEvent-0ba56c45aa627ec7c94809fde81cd871
LAST-MODIFIED:20161118T143801Z
SUMMARY:Public Information Event at Meadowbank Sports Centre\, London Road
DTSTART:20161117T150000Z
DTEND:20161117T200000Z
DESCRIPTION:Find out more about the new centre and the masterplan for 
 the site. You can drop in to the event any time from 3pm until 8pm.\n\
 nMeadowbank Sports Centre\nLondon Road\nEdinburgh\nEH7 6AE\n\nhttps://
 goo.gl/maps/8seTNnCzV5Q2
CLASS:PUBLIC
END:VEVENT
END:VCALENDAR
