BEGIN:VCALENDAR
PRODID:-//AT Content Types//AT Event//EN
VERSION:2.0
METHOD:PUBLISH
BEGIN:VEVENT
DTSTAMP:20260423T073755Z
CREATED:20170110T143312Z
UID:ATEvent-ed071cb2f6d913995b8fae9ed4838ecf
LAST-MODIFIED:20180301T162422Z
SUMMARY:Gilmerton Primary School Public Meeting
DTSTART:20170131T183000Z
DTEND:20170131T203000Z
DESCRIPTION:An opportunity to hear about the proposals and ask questio
 ns. All welcome to attend.\n\nVenue: \nGilmerton Primary School\n2 Mor
 edun Dykes Road\nEdinburgh\nEH17 8NQ
CLASS:PUBLIC
END:VEVENT
END:VCALENDAR
