BEGIN:VCALENDAR
PRODID:-//AT Content Types//AT Event//EN
VERSION:2.0
METHOD:PUBLISH
BEGIN:VEVENT
DTSTAMP:20260423T074300Z
CREATED:20170110T143311Z
UID:ATEvent-1c975799a0b588694527e86111e920f7
LAST-MODIFIED:20180301T162422Z
SUMMARY:Gracemount Primary School Public Meeting
DTSTART:20170209T183000Z
DTEND:20170209T203000Z
DESCRIPTION:An opportunity to hear about the proposals and ask questio
 ns. All welcome to attend.\n\nVenue: \nGracemount Primary School\n45 G
 racemount House Drive\nEdinburgh\nEH16 6FD
CLASS:PUBLIC
END:VEVENT
END:VCALENDAR
