BEGIN:VCALENDAR
PRODID:-//AT Content Types//AT Event//EN
VERSION:2.0
METHOD:PUBLISH
BEGIN:VEVENT
DTSTAMP:20260424T061417Z
CREATED:20250113T122804Z
UID:ATEvent-ccd4ffd6119d44f5b17e77af0d0564f1
LAST-MODIFIED:20250127T140638Z
SUMMARY:Drop In Event - Queensferry Library
DTSTART:20250206T120000Z
DTEND:20250206T140000Z
DESCRIPTION:An in-person event to share our vision for Queensferry Cam
 pus. The event will take place  at South Queensferry Library 9 Shore R
 oad\, South Queensferry.\n\nThis will be an opportunity to meet with C
 ouncil Officers and ask any questions you may have about our vision.
CLASS:PUBLIC
END:VEVENT
END:VCALENDAR
