BEGIN:VCALENDAR
PRODID:-//AT Content Types//AT Event//EN
VERSION:2.0
METHOD:PUBLISH
BEGIN:VEVENT
DTSTAMP:20260424T061530Z
CREATED:20250113T122804Z
UID:ATEvent-e967cfd7f5ff4051af68fd4e90537bd8
LAST-MODIFIED:20250127T140638Z
SUMMARY:Drop In Event - Scotmid Coop
DTSTART:20250206T160000Z
DTEND:20250206T180000Z
DESCRIPTION:An in-person event to share our vision for Queensferry Cam
 pus. The event will take place outside Scotmid Coop\, 55 The Loan\, So
 uth Queensferry EH30 9SD.\n\nThis will be an opportunity to meet with 
 Council Officers and ask any questions you may have about our vision.
CLASS:PUBLIC
END:VEVENT
END:VCALENDAR
