BEGIN:VCALENDAR
PRODID:-//AT Content Types//AT Event//EN
VERSION:2.0
METHOD:PUBLISH
BEGIN:VEVENT
DTSTAMP:20260424T051440Z
CREATED:20250113T122804Z
UID:ATEvent-fb914f4c99b14efaa6c4c0db36f0beed
LAST-MODIFIED:20250127T140638Z
SUMMARY:Drop In Event - Tesco
DTSTART:20250329T103000Z
DTEND:20250329T133000Z
DESCRIPTION:An in-person event to share our vision for Queensferry Cam
 pus. The event will take place outside Tesco Superstore\, 5 Ferrymuir\
 , South Queensferry EH30 9QZ.\n\nThis will be an opportunity to meet w
 ith Council Officers and ask any questions you may have about our visi
 on.
CLASS:PUBLIC
END:VEVENT
END:VCALENDAR
