BEGIN:VCALENDAR
PRODID:-//AT Content Types//AT Event//EN
VERSION:2.0
METHOD:PUBLISH
BEGIN:VEVENT
DTSTAMP:20260425T160916Z
CREATED:20150507T160209Z
UID:ATEvent-8b858642ff1794678b95f53b917fe5f1
LAST-MODIFIED:20150507T161548Z
SUMMARY:Brunstane Public Meeting
DTSTART:20150525T170000Z
DTEND:20150525T190000Z
DESCRIPTION:Your chance to find out more and ask the Council's team qu
 estions @ Brunstane Primary School.
CLASS:PUBLIC
END:VEVENT
END:VCALENDAR
