BEGIN:VCALENDAR
PRODID:-//AT Content Types//AT Event//EN
VERSION:2.0
METHOD:PUBLISH
BEGIN:VEVENT
DTSTAMP:20260425T160504Z
CREATED:20150429T100515Z
UID:ATEvent-c4b323a7533ab9cf6b18ca1dfffaa97f
LAST-MODIFIED:20150507T161548Z
SUMMARY:Duddingston Public Meeting
DTSTART:20150601T173000Z
DTEND:20150601T193000Z
DESCRIPTION:Your chance to find out more and ask the Council's team qu
 estions @ Duddingston Primary School.
CLASS:PUBLIC
END:VEVENT
END:VCALENDAR
