BEGIN:VCALENDAR
PRODID:-//AT Content Types//AT Event//EN
VERSION:2.0
METHOD:PUBLISH
BEGIN:VEVENT
DTSTAMP:20260425T160642Z
CREATED:20150429T100516Z
UID:ATEvent-ea43b09ca7dba483a630df505f866c01
LAST-MODIFIED:20150507T161547Z
SUMMARY:The Royal High Primary Public Meeting
DTSTART:20150603T173000Z
DTEND:20150603T193000Z
DESCRIPTION:Your chance to find out more and ask the Council's team qu
 estions @ The Royal High Primary School.
CLASS:PUBLIC
END:VEVENT
END:VCALENDAR
