BEGIN:VCALENDAR
PRODID:-//AT Content Types//AT Event//EN
VERSION:2.0
METHOD:PUBLISH
BEGIN:VEVENT
DTSTAMP:20260425T160154Z
CREATED:20150429T100516Z
UID:ATEvent-66c4d033174e52f6c3a1050d566a7d43
LAST-MODIFIED:20150507T161548Z
SUMMARY:Towerbank Public Meeting
DTSTART:20150521T173000Z
DTEND:20150521T193000Z
DESCRIPTION:Your chance to find out more and ask the Council's team qu
 estions @ Towerbank Primary School.
CLASS:PUBLIC
END:VEVENT
END:VCALENDAR
