BEGIN:VCALENDAR
PRODID:-//AT Content Types//AT Event//EN
VERSION:2.0
METHOD:PUBLISH
BEGIN:VEVENT
DTSTAMP:20260421T123429Z
CREATED:20260420T111311Z
UID:ATEvent-5bb737d73da64ec8ad46f367e65b4f1a
LAST-MODIFIED:20260420T111543Z
SUMMARY:Drop-in session
DTSTART:20260528T160000Z
DTEND:20260528T190000Z
LOCATION:Waverley Court\, 4 East Market Street\, Edinburgh EH8 8BG
CLASS:PUBLIC
END:VEVENT
END:VCALENDAR
