BEGIN:VCALENDAR
PRODID:-//AT Content Types//AT Event//EN
VERSION:2.0
METHOD:PUBLISH
BEGIN:VEVENT
DTSTAMP:20260421T123420Z
CREATED:20260420T111401Z
UID:ATEvent-f166c94af3b443f68f63191be492f0ff
LAST-MODIFIED:20260420T111543Z
SUMMARY:Drop-in session
DTSTART:20260609T120000Z
DTEND:20260609T160000Z
LOCATION:Grassmarket Centre\, 86 Candlemaker Row\, Edinburgh EH1 2QA
CLASS:PUBLIC
END:VEVENT
END:VCALENDAR
