BEGIN:VCALENDAR
PRODID:-//AT Content Types//AT Event//EN
VERSION:2.0
METHOD:PUBLISH
BEGIN:VEVENT
DTSTAMP:20260421T123420Z
CREATED:20260420T111449Z
UID:ATEvent-fe252fb34e884c68af89c024e32a2a96
LAST-MODIFIED:20260420T111543Z
SUMMARY:Drop-in session
DTSTART:20260616T160000Z
DTEND:20260616T190000Z
LOCATION:Grassmarket Centre\, 86 Candlemaker Row\, Edinburgh EH1 2QA
CLASS:PUBLIC
END:VEVENT
END:VCALENDAR
