BEGIN:VCALENDAR
PRODID:-//AT Content Types//AT Event//EN
VERSION:2.0
METHOD:PUBLISH
BEGIN:VEVENT
DTSTAMP:20260421T123331Z
CREATED:20260420T111157Z
UID:ATEvent-a07bb21ff85c4810ac4cbd340c7eb5f9
LAST-MODIFIED:20260420T111543Z
SUMMARY:Drop-in session
DTSTART:20260514T120000Z
DTEND:20260514T160000Z
LOCATION:Waverley Court\, 4 East Market Street\, Edinburgh EH8 8BG
CLASS:PUBLIC
END:VEVENT
END:VCALENDAR
