BEGIN:VCALENDAR
PRODID:-//AT Content Types//AT Event//EN
VERSION:2.0
METHOD:PUBLISH
BEGIN:VEVENT
DTSTAMP:20260420T120344Z
CREATED:20231012T150615Z
UID:ATEvent-a7bea3b837ab4893b0ff312c786e9b4c
LAST-MODIFIED:20231113T114933Z
SUMMARY:Public Consultation Meeting at Prestonfield Primary School
DTSTART:20231129T183000Z
DTEND:20231129T203000Z
DESCRIPTION:A chance to give your views\, find out more information an
 d discuss the proposals with representatives from the Council.\n\nAddr
 ess: 9 Peffermill Rd\, Edinburgh EH16 5LJ
CLASS:PUBLIC
END:VEVENT
END:VCALENDAR
