BEGIN:VCALENDAR
PRODID:-//AT Content Types//AT Event//EN
VERSION:2.0
METHOD:PUBLISH
BEGIN:VEVENT
DTSTAMP:20260421T192302Z
CREATED:20230424T152715Z
UID:ATEvent-5d4077e0506b4a688a310b24f2235fd6
LAST-MODIFIED:20240408T145425Z
SUMMARY:Community Coffee Morning
DTSTART:20230513T083000Z
DTEND:20230513T123000Z
DESCRIPTION:Greengables Family Centre\, 8a Niddrie House Gardens\, EH1
 6 4UF\n\nThis is an opportunity to hear more about the Niddrie Mains R
 oad project\, as well as plans for a new Greendykes primary school.
CLASS:PUBLIC
END:VEVENT
END:VCALENDAR
