BEGIN:VCALENDAR
PRODID:-//AT Content Types//AT Event//EN
VERSION:2.0
METHOD:PUBLISH
BEGIN:VEVENT
DTSTAMP:20260421T123551Z
CREATED:20260420T151536Z
UID:ATEvent-709da34a660c4cb6b9fa8674d44d09c2
LAST-MODIFIED:20260420T151536Z
SUMMARY:Drop-in Session 2
DTSTART:20260513T093000Z
DTEND:20260513T130000Z
DESCRIPTION:Chat with the team\, ask questions and learn more about th
 e proposals.
LOCATION:Craigmount High School\, Craigs Rd\, Edinburgh EH12 8NH
CLASS:PUBLIC
END:VEVENT
END:VCALENDAR
