BEGIN:VCALENDAR
PRODID:-//AT Content Types//AT Event//EN
VERSION:2.0
METHOD:PUBLISH
BEGIN:VEVENT
DTSTAMP:20260421T123459Z
CREATED:20260420T151416Z
UID:ATEvent-35711a0bbe1247d0b40a52381551987f
LAST-MODIFIED:20260420T151536Z
SUMMARY:Drop-in Session 1
DTSTART:20260430T153000Z
DTEND:20260430T190000Z
DESCRIPTION:Chat with the team\, ask questions and learn more about th
 e proposals.
LOCATION:Craigmount High School\, Craigs Rd\, Edinburgh EH12 8NH
CLASS:PUBLIC
END:VEVENT
END:VCALENDAR
