BEGIN:VCALENDAR
PRODID:-//AT Content Types//AT Event//EN
VERSION:2.0
METHOD:PUBLISH
BEGIN:VEVENT
DTSTAMP:20260423T122624Z
CREATED:20240430T132712Z
UID:ATEvent-2cf1f720f29e44459096e465530576be
LAST-MODIFIED:20240501T091200Z
SUMMARY:Consultation Drop In Event
DTSTART:20240504T100000Z
DTEND:20240504T130000Z
DESCRIPTION:Join us at Granton Station on Saturday 4th May from 11am -
  2pm to share your views on heritage in person. You'll meet with membe
 rs of the Granton Waterfront team and the architects who have been wor
 king with us to develop the proposals.\n\nGranton Station \nGranton St
 ation Square \nWaterfront Broadway
CLASS:PUBLIC
END:VEVENT
END:VCALENDAR
