BEGIN:VCALENDAR
PRODID:-//AT Content Types//AT Event//EN
VERSION:2.0
METHOD:PUBLISH
BEGIN:VEVENT
DTSTAMP:20260422T234418Z
CREATED:20181030T155641Z
UID:ATEvent-b125980067ac5c77d9b8eeb387354b12
LAST-MODIFIED:20191230T111711Z
SUMMARY:Granton Could Be…
DTSTART:20190119T100000Z
DTEND:20190119T130000Z
DESCRIPTION:Share your thoughts\, consider the opportunities\, shape y
 our waterfront.\n\nGranton Parish Church \n55 Boswall Parkway,\nEdinbu
 rgh,\nEH5 2DA\n\nAll are welcome! Building on what you told us previou
 sly\, Collective Architecture and\nthe City of Edinburgh Council would
  like to invite you to come along for a hot drink and a\nbiscuit\, and
  comment on the initial ideas we have been developing for the future o
 f Granton\nWaterfront. We will also be travelling around the area duri
 ng this time on our project bike.\n\nThis is the second in our program
 me of community consultations\, the next will be in March\n2019.
CLASS:PUBLIC
END:VEVENT
END:VCALENDAR
