BEGIN:VCALENDAR
PRODID:-//AT Content Types//AT Event//EN
VERSION:2.0
METHOD:PUBLISH
BEGIN:VEVENT
DTSTAMP:20260422T122247Z
CREATED:20250918T134821Z
UID:ATEvent-3808d3b8d11c4da48a67420d410258a2
LAST-MODIFIED:20251007T085544Z
SUMMARY:Informal Drop-In Session at Niddrie Mill Primary School & St Francis RC Primary School
DTSTART:20251203T143000Z
DTEND:20251203T170000Z
CLASS:PUBLIC
END:VEVENT
END:VCALENDAR
