BEGIN:VCALENDAR
PRODID:-//AT Content Types//AT Event//EN
VERSION:2.0
METHOD:PUBLISH
BEGIN:VEVENT
DTSTAMP:20260422T122256Z
CREATED:20250918T134821Z
UID:ATEvent-198efaff651648e1a29c99adc465bc35
LAST-MODIFIED:20251007T085544Z
SUMMARY:Informal Drop-In Session at Jack Kane Community Centre
DTSTART:20251030T163000Z
DTEND:20251030T190000Z
CLASS:PUBLIC
END:VEVENT
END:VCALENDAR
