BEGIN:VCALENDAR
PRODID:-//AT Content Types//AT Event//EN
VERSION:2.0
METHOD:PUBLISH
BEGIN:VEVENT
DTSTAMP:20260422T122306Z
CREATED:20250918T134821Z
UID:ATEvent-96a6f5e3a42f419aa46eef2bfd1c2d1e
LAST-MODIFIED:20251007T085544Z
SUMMARY:Informal Drop-In Session at Castlebrae Community Campus
DTSTART:20251103T163000Z
DTEND:20251103T190000Z
CLASS:PUBLIC
END:VEVENT
END:VCALENDAR
