BEGIN:VCALENDAR
PRODID:-//AT Content Types//AT Event//EN
VERSION:2.0
METHOD:PUBLISH
BEGIN:VEVENT
DTSTAMP:20260422T122154Z
CREATED:20250918T134821Z
UID:ATEvent-584cd8ea05fd44c18efc505f810dacd9
LAST-MODIFIED:20251007T085544Z
SUMMARY:Public Meeting at Castleview Primary School
DTSTART:20251113T183000Z
DTEND:20251113T203000Z
CLASS:PUBLIC
END:VEVENT
END:VCALENDAR
