BEGIN:VCALENDAR
PRODID:-//AT Content Types//AT Event//EN
VERSION:2.0
METHOD:PUBLISH
BEGIN:VEVENT
DTSTAMP:20260422T122403Z
CREATED:20250918T134821Z
UID:ATEvent-5cc26191a5c44a19b1558f06a45c7905
LAST-MODIFIED:20251007T085544Z
SUMMARY:Public Meeting at Greengables Nursery
DTSTART:20251125T183000Z
DTEND:20251125T203000Z
CLASS:PUBLIC
END:VEVENT
END:VCALENDAR
