BEGIN:VCALENDAR
PRODID:-//AT Content Types//AT Event//EN
VERSION:2.0
METHOD:PUBLISH
BEGIN:VEVENT
DTSTAMP:20260425T160327Z
CREATED:20150714T085913Z
UID:ATEvent-5c0bbcc2fc20562f6bc31c0c9b6006ac
LAST-MODIFIED:20150820T093743Z
SUMMARY:Exhibition Stockbridge Library
DTSTART:20150810T090000Z
DTEND:20150828T150000Z
DESCRIPTION:An exhibition for the proposed Inverleith Conservation Are
 a Character Appraisal has been arranged for Stockbridge Library from 1
 0th - 28th August with an Open Day on Wednesday 12th August between 3p
 m and 8pm\, when representatives of the Council will be available to a
 nswer any questions
CLASS:PUBLIC
END:VEVENT
END:VCALENDAR
