BEGIN:VCALENDAR
PRODID:-//AT Content Types//AT Event//EN
VERSION:2.0
METHOD:PUBLISH
BEGIN:VEVENT
DTSTAMP:20260425T160332Z
CREATED:20150714T085913Z
UID:ATEvent-1245eeec17427aa9703fcd5fa1028e9b
LAST-MODIFIED:20150820T093744Z
SUMMARY:Open Day Stockbridge Library 12 August 2015 3.00pm - 8.00pm
DTSTART:20150812T140000Z
DTEND:20150812T190000Z
DESCRIPTION:An Open Day for the proposed Inverleith Conservation Area 
 Character Appraisal has been arranged for Stockbridge Library where re
 presentatives of the Council will be available to answer any questions
 .
CLASS:PUBLIC
END:VEVENT
END:VCALENDAR
