BEGIN:VCALENDAR
PRODID:-//AT Content Types//AT Event//EN
VERSION:2.0
METHOD:PUBLISH
BEGIN:VEVENT
DTSTAMP:20260421T163016Z
CREATED:20250604T095313Z
UID:ATEvent-b65d58a4acac4ab28217d2cc5b694e39
LAST-MODIFIED:20250606T140814Z
SUMMARY:Online Local Events Open Fund Session (link in description)
DTSTART:20250626T090000Z
DTEND:20250626T103000Z
DESCRIPTION:Online presentation and Q&A session\n\nMicrosoft Teams spe
 ech-to-text function will be enabled.\n\nhttps://events.teams.microsof
 t.com/event/0b948832-3f96-4fcf-891a-9eb17a250902@482a4ef9-66e4-4e76-9f
 24-6da09a713ed4
CLASS:PUBLIC
END:VEVENT
END:VCALENDAR
