BEGIN:VCALENDAR
PRODID:-//AT Content Types//AT Event//EN
VERSION:2.0
METHOD:PUBLISH
BEGIN:VEVENT
DTSTAMP:20260421T162825Z
CREATED:20250604T090910Z
UID:ATEvent-67eb7693f73447ce97cf2a3989219ca5
LAST-MODIFIED:20250606T140814Z
SUMMARY:Online Local Events Open Fund Session (link in description)
DTSTART:20250624T170000Z
DTEND:20250624T183000Z
DESCRIPTION:Online presentation and Q&A session. \n\nMicrosoft Teams s
 peech-to-text function will be enabled.\n\nhttps://events.teams.micros
 oft.com/event/1715fa4a-9814-47aa-abb5-dc3a0914c748@482a4ef9-66e4-4e76-
 9f24-6da09a713ed4
CLASS:PUBLIC
END:VEVENT
END:VCALENDAR
