BEGIN:VCALENDAR
PRODID:-//AT Content Types//AT Event//EN
VERSION:2.0
METHOD:PUBLISH
BEGIN:VEVENT
DTSTAMP:20260421T220212Z
CREATED:20230316T094354Z
UID:ATEvent-fb36f7e1ea374b949dbc29784979505c
LAST-MODIFIED:20230421T084327Z
SUMMARY:Public drop-in session - Bangholm Outdoor Centre
DTSTART:20230420T163000Z
DTEND:20230420T193000Z
DESCRIPTION:23 Craighall Gardens\, Edinburgh. EH6 4RJ.
CLASS:PUBLIC
END:VEVENT
END:VCALENDAR
