BEGIN:VCALENDAR
PRODID:-//AT Content Types//AT Event//EN
VERSION:2.0
METHOD:PUBLISH
BEGIN:VEVENT
DTSTAMP:20260421T180010Z
CREATED:20171114T101239Z
UID:ATEvent-fbb1adcaf1868b6993dd4838f779d69b
LAST-MODIFIED:20171122T143007Z
SUMMARY:Public Information Event - Broughton St Marys Parish Church
DTSTART:20171122T150000Z
DTEND:20171122T190000Z
DESCRIPTION:Public event for people to view the proposed designs\, hea
 r from the Council on how plans have evolved over time and share their
  views on the proposals. \n\nBroughton St Marys Parish Church\n12 Bell
 evue Crescent\nEdinburgh \nEH3 6NE
CLASS:PUBLIC
END:VEVENT
END:VCALENDAR
