BEGIN:VCALENDAR
PRODID:-//AT Content Types//AT Event//EN
VERSION:2.0
METHOD:PUBLISH
BEGIN:VEVENT
DTSTAMP:20260421T175953Z
CREATED:20171114T101239Z
UID:ATEvent-666a89882765d262ed4a4e3c29123c4b
LAST-MODIFIED:20171122T143007Z
SUMMARY:Public Information Event - City Art Centre
DTSTART:20171121T100000Z
DTEND:20171121T190000Z
DESCRIPTION:Public event for people to view the proposed designs\, hea
 r from the Council on how plans have evolved over time and share their
  views on the proposals. \n\nCity Art Centre\n2 Market Street \nEdinbu
 rgh \nEH1 1DE
CLASS:PUBLIC
END:VEVENT
END:VCALENDAR
