BEGIN:VCALENDAR
PRODID:-//AT Content Types//AT Event//EN
VERSION:2.0
METHOD:PUBLISH
BEGIN:VEVENT
DTSTAMP:20260421T081918Z
CREATED:20251031T113755Z
UID:ATEvent-1a85c3819ad84da292e1d7838ebef3db
LAST-MODIFIED:20251031T113755Z
SUMMARY:Cameron Toll Shopping Centre
DTSTART:20260117T113000Z
DTEND:20260117T143000Z
DESCRIPTION:Address: Cameron Toll\, Edinburgh\, EH16 5PL
CLASS:PUBLIC
END:VEVENT
END:VCALENDAR
