BEGIN:VCALENDAR
PRODID:-//AT Content Types//AT Event//EN
VERSION:2.0
METHOD:PUBLISH
BEGIN:VEVENT
DTSTAMP:20260421T081954Z
CREATED:20251023T132228Z
UID:ATEvent-d65f331831c94dcfb5941f339bc90c2a
LAST-MODIFIED:20251031T113754Z
SUMMARY:Drop-in at Waverley Court
DTSTART:20251103T143000Z
DTEND:20251103T193000Z
DESCRIPTION:Address: 4 East Market Street\, Edinburgh EH8 8BG\nLocated
  in the Hawthorn Learning Space
CLASS:PUBLIC
END:VEVENT
END:VCALENDAR
