BEGIN:VCALENDAR
PRODID:-//AT Content Types//AT Event//EN
VERSION:2.0
METHOD:PUBLISH
BEGIN:VEVENT
DTSTAMP:20260421T081428Z
CREATED:20251023T133612Z
UID:ATEvent-c7dae69467f041b9b226cb430df18fe3
LAST-MODIFIED:20251031T113755Z
SUMMARY:Drumbrae Library Hub
DTSTART:20251118T153000Z
DTEND:20251118T190000Z
DESCRIPTION:Address: 81 Drum Brae Dr\, Edinburgh EH4 7FE\nLocated in t
 he Parkgrove Room
CLASS:PUBLIC
END:VEVENT
END:VCALENDAR
