BEGIN:VCALENDAR
PRODID:-//AT Content Types//AT Event//EN
VERSION:2.0
METHOD:PUBLISH
BEGIN:VEVENT
DTSTAMP:20260421T081713Z
CREATED:20251023T133612Z
UID:ATEvent-22bf7e796fd74b24a9d8a172c732b6be
LAST-MODIFIED:20251031T113755Z
SUMMARY:Gyle Shopping Centre
DTSTART:20251108T120000Z
DTEND:20251108T150000Z
DESCRIPTION:Address: Gyle Ave\, Edinburgh EH12 9JY\nLocated in the mai
 n concourse
CLASS:PUBLIC
END:VEVENT
END:VCALENDAR
