BEGIN:VCALENDAR
PRODID:-//AT Content Types//AT Event//EN
VERSION:2.0
METHOD:PUBLISH
BEGIN:VEVENT
DTSTAMP:20260421T081900Z
CREATED:20251023T133612Z
UID:ATEvent-f2d8826cde9a4333b692fa40f1a84fab
LAST-MODIFIED:20251031T113755Z
SUMMARY:Kirkliston Parish Church Hall
DTSTART:20251111T153000Z
DTEND:20251111T183000Z
DESCRIPTION:Address: The Square\, Kirkliston EH29 9AX
CLASS:PUBLIC
END:VEVENT
END:VCALENDAR
