BEGIN:VCALENDAR
PRODID:-//AT Content Types//AT Event//EN
VERSION:2.0
METHOD:PUBLISH
BEGIN:VEVENT
DTSTAMP:20260421T081533Z
CREATED:20251023T133612Z
UID:ATEvent-cb3d5f4c099943c0924ac478fec11cf3
LAST-MODIFIED:20251031T113755Z
SUMMARY:Magdalene Community Centre
DTSTART:20251119T153000Z
DTEND:20251119T190000Z
DESCRIPTION:Address: 106B Magdalene Dr\, Edinburgh EH15 3BE
CLASS:PUBLIC
END:VEVENT
END:VCALENDAR
