BEGIN:VCALENDAR
PRODID:-//AT Content Types//AT Event//EN
VERSION:2.0
METHOD:PUBLISH
BEGIN:VEVENT
DTSTAMP:20260421T081612Z
CREATED:20251023T133612Z
UID:ATEvent-c5da4d0cc67546e481662601be6f6270
LAST-MODIFIED:20251031T113755Z
SUMMARY:North Edinburgh Arts Centre
DTSTART:20251121T160000Z
DTEND:20251121T190000Z
DESCRIPTION:Address: 12C Macmillan Cres\, Edinburgh EH4 4AB\nLocated i
 n the Theatre Suite
CLASS:PUBLIC
END:VEVENT
END:VCALENDAR
