BEGIN:VCALENDAR
PRODID:-//AT Content Types//AT Event//EN
VERSION:2.0
METHOD:PUBLISH
BEGIN:VEVENT
DTSTAMP:20260421T094413Z
CREATED:20251023T133612Z
UID:ATEvent-2f15705c606c483ead9ad250a9b2f47f
LAST-MODIFIED:20251031T113755Z
SUMMARY:Oxgangs Library
DTSTART:20251117T160000Z
DTEND:20251117T190000Z
DESCRIPTION:Address: 343 Oxgangs Rd N\, Edinburgh EH13 9LY\nLocated in
  the Community Room
CLASS:PUBLIC
END:VEVENT
END:VCALENDAR
