BEGIN:VCALENDAR
PRODID:-//AT Content Types//AT Event//EN
VERSION:2.0
METHOD:PUBLISH
BEGIN:VEVENT
DTSTAMP:20260421T081428Z
CREATED:20251023T133612Z
UID:ATEvent-d3b609f9995f4e148099be227e167608
LAST-MODIFIED:20251031T113755Z
SUMMARY:Sighthill Library / Gate 55
DTSTART:20251112T160000Z
DTEND:20251112T190000Z
DESCRIPTION:Address: 55 Sighthill Rd\, Edinburgh EH11 4PB
CLASS:PUBLIC
END:VEVENT
END:VCALENDAR
