BEGIN:VCALENDAR
PRODID:-//AT Content Types//AT Event//EN
VERSION:2.0
METHOD:PUBLISH
BEGIN:VEVENT
DTSTAMP:20260423T072129Z
CREATED:20230606T124610Z
UID:ATEvent-d1c15ad66f054f4e87d56e38721c1119
LAST-MODIFIED:20230710T083233Z
SUMMARY:'You Said\, We Did' In-person event
DTSTART:20230823T150000Z
DTEND:20230823T180000Z
DESCRIPTION:Location: Granton Station 
CLASS:PUBLIC
END:VEVENT
END:VCALENDAR
