BEGIN:VCALENDAR
PRODID:-//AT Content Types//AT Event//EN
VERSION:2.0
METHOD:PUBLISH
BEGIN:VEVENT
DTSTAMP:20260420T151132Z
CREATED:20230113T140220Z
UID:ATEvent-d8eb4825084a492fa54caac90baa869a
LAST-MODIFIED:20231102T102733Z
SUMMARY:Portobello Library Drop-in Event
DTSTART:20230125T110000Z
DTEND:20230125T130000Z
DESCRIPTION:14 Rosefield Ave\, Portobello\, Edinburgh EH15 1AU
CLASS:PUBLIC
END:VEVENT
END:VCALENDAR
