BEGIN:VCALENDAR
PRODID:-//AT Content Types//AT Event//EN
VERSION:2.0
METHOD:PUBLISH
BEGIN:VEVENT
DTSTAMP:20260420T151039Z
CREATED:20230113T140220Z
UID:ATEvent-8569a7b8a60d49e989918470afe2f4e2
LAST-MODIFIED:20231102T102733Z
SUMMARY:Edinburgh College (Granton Campus) Drop-in Event
DTSTART:20230118T113000Z
DTEND:20230118T140000Z
DESCRIPTION:350 W Granton Rd\, Edinburgh EH5 1QE\n\nEvent held in Gran
 ton Hub (main lunch area for students)
CLASS:PUBLIC
END:VEVENT
END:VCALENDAR
