BEGIN:VCALENDAR
PRODID:-//AT Content Types//AT Event//EN
VERSION:2.0
METHOD:PUBLISH
BEGIN:VEVENT
DTSTAMP:20260420T150753Z
CREATED:20230113T140220Z
UID:ATEvent-ef827d1c3a68463fa704bc5173dbdf35
LAST-MODIFIED:20231102T102733Z
SUMMARY:Newington Library Drop-in Event
DTSTART:20230117T110000Z
DTEND:20230117T130000Z
DESCRIPTION:17 Fountainhall Rd\, Edinburgh EH9 2LN
CLASS:PUBLIC
END:VEVENT
END:VCALENDAR
